BEGIN:VCALENDAR
VERSION:2.0
PRODID:-//www.admidio.org//Admidio4.2.11//DE
CALSCALE:GREGORIAN
METHOD:PUBLISH
X-WR-TIMEZONE:Europe/Zurich
BEGIN:VTIMEZONE
TZID:Europe/Zurich
X-LIC-LOCATION:Europe/Zurich
BEGIN:STANDARD
DTSTART:19701025T030000
TZOFFSETFROM:+0200
TZOFFSETTO:+0100
TZNAME:CET
RRULE:FREQ=YEARLY;BYDAY=-1SU;BYMONTH=10
END:STANDARD
BEGIN:DAYLIGHT
DTSTART:19700329T020000
TZOFFSETFROM:+0100
TZOFFSETTO:+0200
TZNAME:CEST
RRULE:FREQ=YEARLY;BYDAY=-1SU;BYMONTH=3
END:DAYLIGHT
END:VTIMEZONE
BEGIN:VEVENT
CREATED:20250430T120412
LAST-MODIFIED:20250610T075814
UID:20250430T120412+2@vip.sponsoren-fca.ch
SUMMARY:Generalversammlung 2025
DESCRIPTION:Die Generalversammlung 2025 der Sponsorenvereinigung des FC Aarau findet NEU am Mi.\,18.6.2025 aus Gründen der Verfügbarkeit des Austragungsortes statt und nicht wie ursprünglich angekündigt am Do.\, 12.6.2025 statt.\n\nEine detaillierte Einladung: hier\nAnmeldung: hier | Abmeldung: hier\n\nSportliche Grüsse\n\nEuer Vorstand\n\nPS: Update zu ev. möglichem Shuttle ab Aarau folgt.\n
DTSTAMP:20260421T095431
LOCATION:Waldhaus Gehren\, Gehrenstrasse 100\, 5018 Erlinsbach
DTSTART;TZID=Europe/Zurich:20250618T183000
DTEND;TZID=Europe/Zurich:20250618T223000
END:VEVENT
END:VCALENDAR