BEGIN:VCALENDAR
VERSION:2.0
PRODID:-//www.admidio.org//Admidio4.2.11//DE
CALSCALE:GREGORIAN
METHOD:PUBLISH
X-WR-TIMEZONE:Europe/Zurich
BEGIN:VTIMEZONE
TZID:Europe/Zurich
X-LIC-LOCATION:Europe/Zurich
BEGIN:STANDARD
DTSTART:19701025T030000
TZOFFSETFROM:+0200
TZOFFSETTO:+0100
TZNAME:CET
RRULE:FREQ=YEARLY;BYDAY=-1SU;BYMONTH=10
END:STANDARD
BEGIN:DAYLIGHT
DTSTART:19700329T020000
TZOFFSETFROM:+0100
TZOFFSETTO:+0200
TZNAME:CEST
RRULE:FREQ=YEARLY;BYDAY=-1SU;BYMONTH=3
END:DAYLIGHT
END:VTIMEZONE
BEGIN:VEVENT
CREATED:20260320T222634
LAST-MODIFIED:20260320T224605
UID:20260320T222634+2@vip.sponsoren-fca.ch
SUMMARY:FC Aarau - Neuchâtel Xamax FCS
DESCRIPTION:Der FC Aarau trifft in der 27. Runde der Challenge-League-Saison 2025/26 zu Hause auf Neuchâtel Xamax.\n\nTickets kaufen\n\nDieses Spiel kann im Pay-TV auf \, sowie im Live-Ticker der Aargauer Zeitung oder hier verfolgt werden.\n\n\n
DTSTAMP:20260420T060920
LOCATION:Stadion Brügglifeld\, Aarau
DTSTART;TZID=Europe/Zurich:20260321T180000
DTEND;TZID=Europe/Zurich:20260321T194500
END:VEVENT
BEGIN:VEVENT
CREATED:20260407T145723
LAST-MODIFIED:
UID:20260407T145723+2@vip.sponsoren-fca.ch
SUMMARY:FC Aarau - Étoile Carouge FC
DESCRIPTION:Der FC Aarau trifft in der 29. Runde der Challenge-League-Saison 2025/26 zu Hause auf Étoile Carouge FC.\n\nTickets kaufen\n\nDieses Spiel kann im Pay-TV auf \, sowie im Live-Ticker der Aargauer Zeitung oder hier verfolgt werden.\n\n\n
DTSTAMP:20260420T060920
LOCATION:Stadion Brügglifeld\, Aarau
DTSTART;TZID=Europe/Zurich:20260407T190000
DTEND;TZID=Europe/Zurich:20260407T204500
END:VEVENT
END:VCALENDAR